BEGIN:VCALENDAR
VERSION:2.0
PRODID:-//Schizophrenia Awareness Association - ECPv5.9.2//NONSGML v1.0//EN
CALSCALE:GREGORIAN
METHOD:PUBLISH
X-WR-CALNAME:Schizophrenia Awareness Association
X-ORIGINAL-URL:https://schizophrenia.org.in
X-WR-CALDESC:Events for Schizophrenia Awareness Association
BEGIN:VTIMEZONE
TZID:UTC
BEGIN:STANDARD
TZOFFSETFROM:+0000
TZOFFSETTO:+0000
TZNAME:UTC
DTSTART:20230101T000000
END:STANDARD
END:VTIMEZONE
BEGIN:VEVENT
DTSTART;TZID=UTC:20230817T160000
DTEND;TZID=UTC:20230817T173000
DTSTAMP:20260420T105549
CREATED:20230817T065530Z
LAST-MODIFIED:20230817T065530Z
UID:6933-1692288000-1692293400@schizophrenia.org.in
SUMMARY:Peer Support Group Meeting
DESCRIPTION:Want create site? Find Free WordPress Themes and plugins.You can join using  ZOOM MEETING app \nZoom Meeting ID: 836 9549 1646 \nPass code: saa \nLink: https://us02web.zoom.us/j/83695491646?pwd=VEx6ZGhVRzdPYmloVVFRaElZby85UT09 \nDid you find apk for android? You can find new Free Android Games and apps.
URL:https://schizophrenia.org.in/event/peer-support-group-meeting-2/
LOCATION:Online
ATTACH;FMTTYPE=image/jpeg:https://schizophrenia.org.in/wp-content/uploads/2023/08/19th-August-2023.jpg
END:VEVENT
END:VCALENDAR